BEGIN:VCALENDAR
VERSION:2.0
PRODID:-//CCSH - ECPv6.15.17.1//NONSGML v1.0//EN
CALSCALE:GREGORIAN
METHOD:PUBLISH
X-ORIGINAL-URL:https://chambrecommerce.ca
X-WR-CALDESC:Évènements pour CCSH
REFRESH-INTERVAL;VALUE=DURATION:PT1H
X-Robots-Tag:noindex
X-PUBLISHED-TTL:PT1H
BEGIN:VTIMEZONE
TZID:America/New_York
BEGIN:DAYLIGHT
TZOFFSETFROM:-0500
TZOFFSETTO:-0400
TZNAME:EDT
DTSTART:20190310T070000
END:DAYLIGHT
BEGIN:STANDARD
TZOFFSETFROM:-0400
TZOFFSETTO:-0500
TZNAME:EST
DTSTART:20191103T060000
END:STANDARD
BEGIN:DAYLIGHT
TZOFFSETFROM:-0500
TZOFFSETTO:-0400
TZNAME:EDT
DTSTART:20200308T070000
END:DAYLIGHT
BEGIN:STANDARD
TZOFFSETFROM:-0400
TZOFFSETTO:-0500
TZNAME:EST
DTSTART:20201101T060000
END:STANDARD
BEGIN:DAYLIGHT
TZOFFSETFROM:-0500
TZOFFSETTO:-0400
TZNAME:EDT
DTSTART:20210314T070000
END:DAYLIGHT
BEGIN:STANDARD
TZOFFSETFROM:-0400
TZOFFSETTO:-0500
TZNAME:EST
DTSTART:20211107T060000
END:STANDARD
END:VTIMEZONE
BEGIN:VEVENT
DTSTART;TZID=America/New_York:20200505T133000
DTEND;TZID=America/New_York:20200505T163000
DTSTAMP:20260423T132920
CREATED:20200217T141638Z
LAST-MODIFIED:20200319T174749Z
UID:10000245-1588685400-1588696200@chambrecommerce.ca
SUMMARY:ANNULÉ - Formation : Réseaux sociaux\, publicités et vidéos : LA BASE (Groupe 3)
DESCRIPTION:ÉVÉNEMENT ANNULÉ\nConsidérant l’évolution de la situation entourant le coronavirus (COVID-19) et les mesures annoncées par le gouvernement\, la Chambre de commerce de la grande région de Saint-Hyacinthe a pris la décision  d’annuler les événements prévus à son calendrier pour les mois de mars\, avril et mai 2020. \nLa Chambre de commerce communiquera avec chacun des participants inscrits à ces événements et procédera aux remboursements. \n\n  \nFormateur  \n \n  \n  \nAfin d’outiller les commerces de la région à maximiser leur exposition sur les réseaux sociaux\, Passion Détail propose une Formation théorique et pratique sur certains outils vidéos et publicitaires. \nLa formation permettra de découvrir les stratégies de communication sur les réseaux sociaux\, maximiser la visibilité\, augmenter l’engagement de la communauté et rester à jour et anticiper les communications. \nVous apprendrez\, entre autres\, à déterminer la cible\, la visibilité et interaction sur les réseaux sociaux\, outil montage vidéo et outil de conception publicitaire. \nGrâce à la formation\, vous pourrez acquérir des compétences théoriques et les mettre en pratique\, tout en échangeant avec les participants afin de développer ensemble. \n  \nDates possibles  \n\nCOMPLET – Groupe 1 : 17 et 24 février\, de 18 h 30 à 21 h 30\nCOMPLET – Groupe 2 : 18 et 25 février\, 13 h 30 à 16 h 30\nGroupe 3 : 5 et 12 mai\, 13 h 30 à 16 h 30\n\n  \nINSCRIPTION – Formation offerte gratuitement  \nVia Parcours Formation : Au 450 771-6335 ou par courriel au info@parcoursformation.com
URL:https://chambrecommerce.ca/activite/formation-reseaux-sociaux-publicites-et-videos-la-base-groupe-3/
LOCATION:Parcours Formation\, 600 Boulevard Casavant E\, Saint-Hyacinthe\, Québec\, J2S 7T2\, Canada
CATEGORIES:Passion Détail
ATTACH;FMTTYPE=image/jpeg:https://chambrecommerce.ca/wp-content/uploads/2020/01/passion-detail-formation3.jpg
END:VEVENT
END:VCALENDAR