BEGIN:VCALENDAR
VERSION:2.0
PRODID:-//CCSH - ECPv6.15.17.1//NONSGML v1.0//EN
CALSCALE:GREGORIAN
METHOD:PUBLISH
X-WR-CALNAME:CCSH
X-ORIGINAL-URL:https://chambrecommerce.ca
X-WR-CALDESC:Évènements pour CCSH
REFRESH-INTERVAL;VALUE=DURATION:PT1H
X-Robots-Tag:noindex
X-PUBLISHED-TTL:PT1H
BEGIN:VTIMEZONE
TZID:America/New_York
BEGIN:DAYLIGHT
TZOFFSETFROM:-0500
TZOFFSETTO:-0400
TZNAME:EDT
DTSTART:20190310T070000
END:DAYLIGHT
BEGIN:STANDARD
TZOFFSETFROM:-0400
TZOFFSETTO:-0500
TZNAME:EST
DTSTART:20191103T060000
END:STANDARD
BEGIN:DAYLIGHT
TZOFFSETFROM:-0500
TZOFFSETTO:-0400
TZNAME:EDT
DTSTART:20200308T070000
END:DAYLIGHT
BEGIN:STANDARD
TZOFFSETFROM:-0400
TZOFFSETTO:-0500
TZNAME:EST
DTSTART:20201101T060000
END:STANDARD
BEGIN:DAYLIGHT
TZOFFSETFROM:-0500
TZOFFSETTO:-0400
TZNAME:EDT
DTSTART:20210314T070000
END:DAYLIGHT
BEGIN:STANDARD
TZOFFSETFROM:-0400
TZOFFSETTO:-0500
TZNAME:EST
DTSTART:20211107T060000
END:STANDARD
END:VTIMEZONE
BEGIN:VEVENT
DTSTART;TZID=America/New_York:20200424T100000
DTEND;TZID=America/New_York:20200424T120000
DTSTAMP:20260421T095217
CREATED:20200422T124223Z
LAST-MODIFIED:20200527T120423Z
UID:10000260-1587722400-1587729600@chambrecommerce.ca
SUMMARY:Équipes virtuelles : le bon\, le mauvais et le moche! (Synor) - FORMATION
DESCRIPTION:Équipes virtuelles : le bon\, la mauvais et le moche!\n. \nInscription à la formation\n. \n  \nPour tous les gens en télétravail \nAvec le télétravail et la distanciation sociale\, plusieurs d’entre nous sont dans l’obligation de collaborer avec des équipes entièrement virtuelles ou semi-virtuelles. \nLa session vous donnera l’occasion de :\n–   Réfléchir sur votre approche du travail en équipe virtuelle;\n–   Reconnaître les pièges du travail en équipe virtuelle;\n–   Développer des stratégies pour améliorer votre capacité de diriger et de travailler dans des équipes virtuelles. \n\n  \nCoût : Gratuit
URL:https://chambrecommerce.ca/activite/equipes-virtuelles-le-bon-la-mauvais-et-le-moche-synor/2020-04-24/1/
LOCATION:Saint-Hyacinthe\, Québec\, Canada
CATEGORIES:Webinaires et formations
END:VEVENT
BEGIN:VEVENT
DTSTART;TZID=America/New_York:20200424T130000
DTEND;TZID=America/New_York:20200424T150000
DTSTAMP:20260421T095217
CREATED:20200422T124223Z
LAST-MODIFIED:20200527T120423Z
UID:10000261-1587733200-1587740400@chambrecommerce.ca
SUMMARY:Équipes virtuelles : le bon\, le mauvais et le moche! (Synor) - FORMATION
DESCRIPTION:Équipes virtuelles : le bon\, la mauvais et le moche!\n. \nInscription à la formation\n. \n  \nPour tous les gens en télétravail \nAvec le télétravail et la distanciation sociale\, plusieurs d’entre nous sont dans l’obligation de collaborer avec des équipes entièrement virtuelles ou semi-virtuelles. \nLa session vous donnera l’occasion de :\n–   Réfléchir sur votre approche du travail en équipe virtuelle;\n–   Reconnaître les pièges du travail en équipe virtuelle;\n–   Développer des stratégies pour améliorer votre capacité de diriger et de travailler dans des équipes virtuelles. \n\n  \nCoût : Gratuit
URL:https://chambrecommerce.ca/activite/equipes-virtuelles-le-bon-la-mauvais-et-le-moche-synor/2020-04-24/2/
LOCATION:Saint-Hyacinthe\, Québec\, Canada
CATEGORIES:Webinaires et formations
END:VEVENT
END:VCALENDAR