BEGIN:VCALENDAR
VERSION:2.0
PRODID:-//CCSH - ECPv6.15.17.1//NONSGML v1.0//EN
CALSCALE:GREGORIAN
METHOD:PUBLISH
X-WR-CALNAME:CCSH
X-ORIGINAL-URL:https://chambrecommerce.ca
X-WR-CALDESC:Évènements pour CCSH
REFRESH-INTERVAL;VALUE=DURATION:PT1H
X-Robots-Tag:noindex
X-PUBLISHED-TTL:PT1H
BEGIN:VTIMEZONE
TZID:America/New_York
BEGIN:DAYLIGHT
TZOFFSETFROM:-0500
TZOFFSETTO:-0400
TZNAME:EDT
DTSTART:20190310T070000
END:DAYLIGHT
BEGIN:STANDARD
TZOFFSETFROM:-0400
TZOFFSETTO:-0500
TZNAME:EST
DTSTART:20191103T060000
END:STANDARD
BEGIN:DAYLIGHT
TZOFFSETFROM:-0500
TZOFFSETTO:-0400
TZNAME:EDT
DTSTART:20200308T070000
END:DAYLIGHT
BEGIN:STANDARD
TZOFFSETFROM:-0400
TZOFFSETTO:-0500
TZNAME:EST
DTSTART:20201101T060000
END:STANDARD
BEGIN:DAYLIGHT
TZOFFSETFROM:-0500
TZOFFSETTO:-0400
TZNAME:EDT
DTSTART:20210314T070000
END:DAYLIGHT
BEGIN:STANDARD
TZOFFSETFROM:-0400
TZOFFSETTO:-0500
TZNAME:EST
DTSTART:20211107T060000
END:STANDARD
END:VTIMEZONE
BEGIN:VEVENT
DTSTART;TZID=America/New_York:20200602T103000
DTEND;TZID=America/New_York:20200602T113000
DTSTAMP:20260421T065402
CREATED:20200528T124912Z
LAST-MODIFIED:20200602T104240Z
UID:10000270-1591093800-1591097400@chambrecommerce.ca
SUMMARY:Saisir les opportunités en temps de crise
DESCRIPTION:Rencontre d’entrepreneurs à entrepreneurs : conférence et table ronde\n\nSaisir les opportunités en temps de crise\nAu cours des derniers mois\, plusieurs entreprises maskoutaines ont saisi les opportunités en temps de crise en se réinventant et en adaptant leurs produits et leurs services. \nLors de cette activité\, venez entendre le témoignage de trois entreprises.  Ensuite\, une table ronde avec tous les participants permettra de discuter de vos défis\, vos idées et vos opportunités. \n  \n \nKisis Plamondon\, propriétaire Ûzage Textile \n \n  \n  \n \nJonathan Robin\, président de la Station Agro-Biotech \nLe gel antibactérien  SANITAGEL \n \n\n  \n  \n \nDominic Pion\, propriétaire\, Les Serres Rosaire Pion & Fils Inc. 2020 \n \n  \n  \n  \n  \n  \nGratuit et ouvert à tous \n \nINFORMATION DE CONNEXION\n\n(Réservation obligatoire pour obtenir les informations de connexion)\nActivité en vidéoconférence. \nLes participants recevront les informations de connexion (lien de la rencontre et mot de passe) par courriel le 1er juin. Le courriel contiendra aussi des instructions pour le bon déroulement de l’activité.
URL:https://chambrecommerce.ca/activite/saisir-les-opportunites-en-temps-de-crise/
LOCATION:Saint-Hyacinthe\, Québec\, Canada
CATEGORIES:Accueil,Activités,Webinaires et formations
END:VEVENT
BEGIN:VEVENT
DTSTART;TZID=America/New_York:20200604T090000
DTEND;TZID=America/New_York:20200604T110000
DTSTAMP:20260421T065403
CREATED:20200521T140100Z
LAST-MODIFIED:20200604T143128Z
UID:10000079-1591261200-1591268400@chambrecommerce.ca
SUMMARY:La mobilisation à distance : connectés par les fils et par le cœur!
DESCRIPTION:PARTENAIRE MAJEUR DES ACTIVITÉS « FIDÉLISATION DES EMPLOYÉS »\n \n  \n  \n\n  \n  \n\nRencontre d’entrepreneur à entrepreneurs : conférence et table ronde\n\nLa mobilisation à distance : connectés par les fils et par le cœur! \nPoussés par le contexte pandémique\, les employés et gestionnaires ont dû faire preuve d’une grande flexibilité et réorganiser leurs façons de travailler en un temps record. \nNous savons que le télétravail fera désormais partie de nos pratiques. Il a littéralement changé nos habitudes de travail\, et par le fait même\, présente de nouveaux défis de gestion\, dont : la mobilisation à distance. \nÀ travers cette conférence\, vous apprendrez quelles sont les actions essentielles pour mobiliser vos employés de façon virtuelle. En tenant compte de 3 éléments\, vous serez en mesure d’établir une connexion du cœur avec chaque membre de votre équipe. \nLa mobilisation a un rôle important à jouer au niveau stratégique\, organisationnel et opérationnel et devrait faire partie de votre plan de continuité et de relance. \nSoyez plus outillé pour amener vos alliés vers l’atteinte de vos objectifs. \n  \n \nInvitée : Line Lessard\, conseillère en développement professionnel\, Espace Carrière \n\n  \n  \nGratuit et ouvert à tous \n  \nINFORMATION DE CONNEXION\n\n(Réservation obligatoire pour obtenir les informations de connexion)\nActivité en vidéoconférence. \nLes participants recevront les informations de connexion (lien de la rencontre et mot de passe) par courriel le 3 juin. Le courriel contiendra aussi des instructions pour le bon déroulement de l’activité.
URL:https://chambrecommerce.ca/activite/la-mobilisation-a-distance-connectes-par-les-fils-et-par-le-coeur/
LOCATION:Saint-Hyacinthe\, Québec\, Canada
CATEGORIES:Accueil,Activités,Webinaires et formations
END:VEVENT
BEGIN:VEVENT
DTSTART;TZID=America/New_York:20200623T110000
DTEND;TZID=America/New_York:20200623T123000
DTSTAMP:20260421T065403
CREATED:20200615T143006Z
LAST-MODIFIED:20200623T133456Z
UID:10000284-1592910000-1592915400@chambrecommerce.ca
SUMMARY:Conférence Lorena Meneses\, Mareiwa Café Colombien et Combia Cold Brew
DESCRIPTION:Rencontre d’entrepreneur à entrepreneurs : conférence et table ronde\n \n \nDans l’œil du dragon : Lorena Meneses nous partage son expérience ! \nLe comité FAM vous invite à une première rencontre chaleureuse et rassembleuse\, ouverte à tous! \nLe partage de Lorena Meneses sera suivi d’une période de questions et d’une discussion en table ronde. \n. \n. \nGratuit et ouvert à tous \n  \nINFORMATION DE CONNEXION\n\nActivité en vidéoconférence. \nhttps://us02web.zoom.us/j/88924856399\nID de réunion : 889 2485 6399\nMot de passe : chambre
URL:https://chambrecommerce.ca/activite/conference-lorena-meneses-mareiwa-cafe-colombien-et-combia-cold-brew/
LOCATION:Saint-Hyacinthe\, Québec\, Canada
CATEGORIES:Accueil,Activités,Webinaires et formations
END:VEVENT
END:VCALENDAR