BEGIN:VCALENDAR
VERSION:2.0
PRODID:-//CCSH - ECPv6.15.17.1//NONSGML v1.0//EN
CALSCALE:GREGORIAN
METHOD:PUBLISH
X-ORIGINAL-URL:https://chambrecommerce.ca
X-WR-CALDESC:Évènements pour CCSH
REFRESH-INTERVAL;VALUE=DURATION:PT1H
X-Robots-Tag:noindex
X-PUBLISHED-TTL:PT1H
BEGIN:VTIMEZONE
TZID:America/New_York
BEGIN:DAYLIGHT
TZOFFSETFROM:-0500
TZOFFSETTO:-0400
TZNAME:EDT
DTSTART:20190310T070000
END:DAYLIGHT
BEGIN:STANDARD
TZOFFSETFROM:-0400
TZOFFSETTO:-0500
TZNAME:EST
DTSTART:20191103T060000
END:STANDARD
BEGIN:DAYLIGHT
TZOFFSETFROM:-0500
TZOFFSETTO:-0400
TZNAME:EDT
DTSTART:20200308T070000
END:DAYLIGHT
BEGIN:STANDARD
TZOFFSETFROM:-0400
TZOFFSETTO:-0500
TZNAME:EST
DTSTART:20201101T060000
END:STANDARD
BEGIN:DAYLIGHT
TZOFFSETFROM:-0500
TZOFFSETTO:-0400
TZNAME:EDT
DTSTART:20210314T070000
END:DAYLIGHT
BEGIN:STANDARD
TZOFFSETFROM:-0400
TZOFFSETTO:-0500
TZNAME:EST
DTSTART:20211107T060000
END:STANDARD
END:VTIMEZONE
BEGIN:VEVENT
DTSTART;TZID=America/New_York:20200817T080000
DTEND;TZID=America/New_York:20200817T113000
DTSTAMP:20260421T035810
CREATED:20200716T124926Z
LAST-MODIFIED:20200813T162647Z
UID:10000081-1597651200-1597663800@chambrecommerce.ca
SUMMARY:Positionnement stratégique sur LinkedIn – GROUPE 1 – FORMATION VIDÉOCONFÉRENCE
DESCRIPTION:Formation LinkedIn Influence : Comment attirer\, engager et convertir des clients sur LinkedIn avec crédibilité.\nLa formation LinkedIn Influence s’adresse aux commerciaux\, aux professionnels\, aux entrepreneurs et aux dirigeants d’entreprises. \nElle vous apprend les six piliers essentiels pour développer votre activité sur LinkedIn avec succès. \n \nSuite à cette formation vous serez en mesure de : \n\nDéfinir les fondamentaux relatifs à :\n\nvotre marque professionnelle\,\nà votre proposition de valeur et\nà votre marché cible.\n\n\nOptimiser votre profil LinkedIn pour :\n\nétablir votre légitimité auprès de vos visiteurs\ninterpeller vos visiteurs très rapidement avec un message persuasif\ngénérer du trafic grâce au SEO\n\n\nBâtir un réseau engagé qui vous permettra de propulser votre visibilité\nMettre en place une stratégie de création de contenu engageant et une ligne éditoriale pour:\n\nétablir votre notoriété\nvous positionner comme une référence de votre secteur\nbâtir une communauté de supporters engagés\nattirer des prospects intéressés\n\n\nFaire de la prospection relationnelle consistant à :\n\ncibler et connecter avec les bons prospects\nengager la conversation\nbâtir la relation\nfaire passer la relation hors-ligne\n\n\nDiriger l’appel pour optimiser vos chances de conclure un accord commercial.\n\n  \nDÉTAIL DU PROGRAMME \nDÉFINITION\n\n\nAlignement des fondamentaux essentiels à l’optimisation de votre profil LinkedIn\n\n\nMarque professionnelle\nClient idéal\nBesoin prioritaire\nProposition de valeur\n\n\nOptimisation de votre profil\n\n\nHaut de page\nParcours\nRéalisations\nCompétences et recommandation\nSEO\nPage d’entreprise\nRéglages – les essentiels\n\n  \nPOSITIONNEMENT\n\nDéveloppement d’un réseau engagé\n\n\nDéfinition du réseau LinkedIn\nAlgorithme : revue des éléments qui affecte la portée d’une publication\nStratégie de création d’un réseau engagé\nIntroduction aux outils d’automatisation\nIntroduction aux outils statistiques\nGroupe d’engagement\nSocial Selling Index – comment l’améliorer\n\n\nCréation de contenu engageant\n\n\nCréation\n\nMéthode SUCCESs\nRevue et création de contenu à fort potentiel d’engagement\nCommuniquer avec une histoire\nLes formats de contenus LinkedIn\nÉdition de contenu\nBonnes pratiques\nErreurs fréquentes\n\n\nLigne éditoriale\n\nObjectifs SMART\nIndicateurs de performance\nPiliers éditoriaux\nPlanification\nCalendrier\n\n\n\n  \nVENTE SOCIALE\n\nProspection relationnelle\n\n\nObjectifs SMART\nComment trouver les bons prospects\nIntroduction à LinkedIn Sales Navigator\nComment faire la première approche\nComment engager la conversation\nComment bâtir la relation de confiance\nComment amener la conversation « hors ligne »\n\n\nConversion\n\n\nComment diriger le premier appel et optimiser ses chances de générer des ventes\n\nÉtablir ses objectifs (en termes d’avancées)\nComprendre les types de besoins (implicite et explicite)\nQuestions à poser et l’ordre pour les poser\nInvestigation préliminaire: comment bien se préparer avant la rencontre.\nRevues des 4 étapes d’un l’appel de vente\nComment prévenir les objections\n\n\n\n  \n\nFORMATEUR : DAVID GAUDREAULT\, Influence Branding \nDavid Gaudreault est ingénieur et possède plus de 10 ans d’expérience en vente et marketing\, dont 6 ans comme dirigeant et fondateur d’une entreprise de vente au détail et de distribution en ligne et comme marketeur numérique.\nIl se passionne et se spécialise depuis 2018 en positionnement stratégique pour les dirigeants et entrepreneurs. \nIl met ainsi à leur disposition son bagage d’expérience pour les former et les coacher dans le but de les amener à gagner en visibilité et en notoriété sur le web\, à être reconnus comme une référence de leur secteur d’activités et à générer des opportunités de croissance pour leur entreprise. \nDavid prêche par l’exemple\, avec une reconnaissance grandissante sur LinkedIn\, avec un réseau de plus de 9 500 abonnés\, de l’engagement significatif sur chacune de ses publications et une grande proportion de ses activités provenant directement de ses efforts de positionnement stratégique. \n  \n\nDÉROULEMENT\, HORAIRE ET COÛT\nValeur de 600 $! Le programme de formation Positionnement stratégique sur LinkedIn est offert gratuitement grâce au Programme actions concertées pour le maintien en emploi (PACME-COVID-19). De plus\, selon votre type d’entreprise\, vous pourriez bénéficier d’un remboursement salarial\, certaines conditions s’appliquent. \nGroupe 1 :\n– Lundi 17 août 2020 : Optimisation de profil LinkedIn\n– Lundi 24 août 2020 : Création de contenu engageant LinkedIn\n– Lundi 31 août 2020 : Développement d’un réseau engagé LinkedIn\n– Lundi 14 septembre 2020 : Prospection sur LinkedIn et appel de vente\n(Groupe 2 les mercredis et groupe 3 les vendredis) \nHoraire des cours :\n– Partie 1 : 8 h à 9 h 30\n– Pause : 9 h 30 à 10 h\n– Partie 2 : 10 h à 11 h 30 \nAfin d’assurer des résultats optimaux\, les participants doivent suivre le programme au complet\, c’est-à-dire participer aux quatre cours. \n  \nPLACES LIMITÉES.
URL:https://chambrecommerce.ca/activite/positionnement-strategique-sur-linkedin-groupe-1/
LOCATION:Vidéoconférence\, Canada
CATEGORIES:Accueil,Activités,Webinaires et formations
ATTACH;FMTTYPE=image/jpeg:https://chambrecommerce.ca/wp-content/uploads/2020/07/Formation-LinkedIn.jpg
END:VEVENT
BEGIN:VEVENT
DTSTART;TZID=America/New_York:20200818T080000
DTEND;TZID=America/New_York:20200818T120000
DTSTAMP:20260421T035810
CREATED:20200507T205552Z
LAST-MODIFIED:20200811T145547Z
UID:10000073-1597737600-1597752000@chambrecommerce.ca
SUMMARY:COMPLET - Certification en leadership et habilités de direction (Institut de Leadership)
DESCRIPTION:  \nFORMATION OFFERTE DANS LE CADRE DU PACME DU GOUVERNEMENT DU QUÉBEC\n  \nNotre Chambre de commerce a l’immense plaisir d’offrir à ses membres la Certification en leadership et habiletés de direction offerte par l’Institut de Leadership. \nProfitez de cette opportunité exceptionnelle offerte dans le cadre du programme PACME du Gouvernement du Québec pour suivre la formation en leadership pour les cadres et dirigeants la plus populaire au Québec! \nProgramme d’une durée de 45 heures\, offert en ligne\, à raison de deux demi-journées par semaines sur six semaines (une douzaine d’intervenants dont plusieurs  témoignages de personnalités québécoises). \nCliquez ici pour télécharger le document de présentation de la Certification en leadership et habiletés de direction \n  \nThèmes  \n\nLe coaching d’équipe à distance\nMaximiser son intelligence émotionnelle en toute situation\nLes habiletés politiques et l’influence en temps de crise\nLa rétroaction et la reconnaissance au quotidien\nLes habiletés de communication en gestion difficile\nLe courage managérial\nLa gestion du changement\nLe leadership numérique\nLa gestion du stress\n\n  \nLa formule proposée  \n\nGrande diversité des intervenants qui proviennent de tous les milieux\nAccès privilégié à des témoignages d’intervenants de renom\nProgramme novateur qui met de l’avant la formation pratique et le développement personnel du gestionnaire\nFormation axée sur l’interaction entre les participants afin de partager des solutions concrètes aux objectifs de l’organisation\nCertification suivie par plus de 1600 gestionnaires dans les cinq dernières années ce qui pousse toujours à l’évolution du contenu selon les besoins réels des gestionnaires qui sont actuellement sur le marché du travail\nExemples concrets et notions pratiques qui favorisent le développement d’outils facilement transférables à la réalité des organisations\nTravail intégrateur qui encourage à faire le bilan des apprentissages et ainsi faire le parallèle avec le rôle du gestionnaire dans son organisation\n\n  \n\n  \nDéroulement du programme\nLes formations auront lieu les mardis AM et jeudis PM suivi d’une conférence le jeudi à 16 h 15 \nLa formation se donne sur 6 semaines : \n\nSemaine du 17 août\nSemaine du 24 août\nSemaine du 31 août\nSemaine du 7 septembre\nSemaine du 14 septembre\nSemaine du 21 septembre\n\n  \nFrais d’inscription\n995 $ + taxes* (valeur de 5 595 $) \n* Selon l’organisation pour laquelle vous travaillez\, nous serons en mesure de rembourser votre entreprise à la fin du programme jusqu’à concurrence de 25 $ / heure pour les 45 heures du programme (remboursement possible de 1125 $). \n  \nRéservez votre place!\nSeulement 25 places disponibles. FAITES VITE! \nPour réserver votre place ou pour toute demande d’information\, écrivez à Lucie Guillemette\, directrice générale\, à lguillemette@chambrecommerce.ca \n 
URL:https://chambrecommerce.ca/activite/certification-en-leadership-et-habilites-de-direction/
LOCATION:Saint-Hyacinthe\, Québec\, Canada
CATEGORIES:Activités,Formations,Webinaires et formations
ATTACH;FMTTYPE=image/png:https://chambrecommerce.ca/wp-content/uploads/2020/05/Image_Promo-CertifLeadership_enligne.png
END:VEVENT
BEGIN:VEVENT
DTSTART;TZID=America/New_York:20200819T080000
DTEND;TZID=America/New_York:20200819T113000
DTSTAMP:20260421T035810
CREATED:20200709T171329Z
LAST-MODIFIED:20200814T132723Z
UID:10000281-1597824000-1597836600@chambrecommerce.ca
SUMMARY:Positionnement stratégique sur LinkedIn - GROUPE 2 - FORMATION VIDÉOCONFÉRENCE
DESCRIPTION:Formation LinkedIn Influence : Comment attirer\, engager et convertir des clients sur LinkedIn avec crédibilité.\nLa formation LinkedIn Influence s’adresse aux commerciaux\, aux professionnels\, aux entrepreneurs et aux dirigeants d’entreprises. \nElle vous apprend les six piliers essentiels pour développer votre activité sur LinkedIn avec succès. \n \nSuite à cette formation vous serez en mesure de : \n\nDéfinir les fondamentaux relatifs à :\n\nvotre marque professionnelle\,\nà votre proposition de valeur et\nà votre marché cible.\n\n\nOptimiser votre profil LinkedIn pour :\n\nétablir votre légitimité auprès de vos visiteurs\ninterpeller vos visiteurs très rapidement avec un message persuasif\ngénérer du trafic grâce au SEO\n\n\nBâtir un réseau engagé qui vous permettra de propulser votre visibilité\nMettre en place une stratégie de création de contenu engageant et une ligne éditoriale pour:\n\nétablir votre notoriété\nvous positionner comme une référence de votre secteur\nbâtir une communauté de supporters engagés\nattirer des prospects intéressés\n\n\nFaire de la prospection relationnelle consistant à :\n\ncibler et connecter avec les bons prospects\nengager la conversation\nbâtir la relation\nfaire passer la relation hors-ligne\n\n\nDiriger l’appel pour optimiser vos chances de conclure un accord commercial.\n\n  \nDÉTAIL DU PROGRAMME \nDÉFINITION\n\n\nAlignement des fondamentaux essentiels à l’optimisation de votre profil LinkedIn\n\n\nMarque professionnelle\nClient idéal\nBesoin prioritaire\nProposition de valeur\n\n\nOptimisation de votre profil\n\n\nHaut de page\nParcours\nRéalisations\nCompétences et recommandation\nSEO\nPage d’entreprise\nRéglages – les essentiels\n\n  \nPOSITIONNEMENT\n\nDéveloppement d’un réseau engagé\n\n\nDéfinition du réseau LinkedIn\nAlgorithme : revue des éléments qui affecte la portée d’une publication\nStratégie de création d’un réseau engagé\nIntroduction aux outils d’automatisation\nIntroduction aux outils statistiques\nGroupe d’engagement\nSocial Selling Index – comment l’améliorer\n\n\nCréation de contenu engageant\n\n\nCréation\n\nMéthode SUCCESs\nRevue et création de contenu à fort potentiel d’engagement\nCommuniquer avec une histoire\nLes formats de contenus LinkedIn\nÉdition de contenu\nBonnes pratiques\nErreurs fréquentes\n\n\nLigne éditoriale\n\nObjectifs SMART\nIndicateurs de performance\nPiliers éditoriaux\nPlanification\nCalendrier\n\n\n\n  \nVENTE SOCIALE\n\nProspection relationnelle\n\n\nObjectifs SMART\nComment trouver les bons prospects\nIntroduction à LinkedIn Sales Navigator\nComment faire la première approche\nComment engager la conversation\nComment bâtir la relation de confiance\nComment amener la conversation « hors ligne »\n\n\nConversion\n\n\nComment diriger le premier appel et optimiser ses chances de générer des ventes\n\nÉtablir ses objectifs (en termes d’avancées)\nComprendre les types de besoins (implicite et explicite)\nQuestions à poser et l’ordre pour les poser\nInvestigation préliminaire: comment bien se préparer avant la rencontre.\nRevues des 4 étapes d’un l’appel de vente\nComment prévenir les objections\n\n\n\n  \n\nFORMATEUR : DAVID GAUDREAULT\, Influence Branding \nDavid Gaudreault est ingénieur et possède plus de 10 ans d’expérience en vente et marketing\, dont 6 ans comme dirigeant et fondateur d’une entreprise de vente au détail et de distribution en ligne et comme marketeur numérique.\nIl se passionne et se spécialise depuis 2018 en positionnement stratégique pour les dirigeants et entrepreneurs. \nIl met ainsi à leur disposition son bagage d’expérience pour les former et les coacher dans le but de les amener à gagner en visibilité et en notoriété sur le web\, à être reconnus comme une référence de leur secteur d’activités et à générer des opportunités de croissance pour leur entreprise. \nDavid prêche par l’exemple\, avec une reconnaissance grandissante sur LinkedIn\, avec un réseau de plus de 9 500 abonnés\, de l’engagement significatif sur chacune de ses publications et une grande proportion de ses activités provenant directement de ses efforts de positionnement stratégique. \n  \n\nDÉROULEMENT\, HORAIRE ET COÛT\nValeur de 600 $! Le programme de formation Positionnement stratégique sur LinkedIn est offert gratuitement grâce au Programme actions concertées pour le maintien en emploi (PACME-COVID-19). De plus\, selon votre type d’entreprise\, vous pourriez bénéficier d’un remboursement salarial\, certaines conditions s’appliquent. \nGroupe 2 :\n– Mercredi 19 août 2020 : Optimisation de profil LinkedIn\n– Mercredi 26 août 2020 : Création de contenu engageant LinkedIn\n– Mercredi 2 septembre 2020 : Développement d’un réseau engagé LinkedIn\n– Mercredi 16 septembre 2020 : Prospection sur LinkedIn et appel de vente\n(Groupe 1 les lundis et groupe 3 les vendredis) \nHoraire des cours :\n– Partie 1 : 8 h à 9 h 30\n– Pause : 9 h 30 à 10 h\n– Partie 2 : 10 h à 11 h 30 \nAfin d’assurer des résultats optimaux\, les participants doivent suivre le programme au complet\, c’est-à-dire participer aux quatre cours. \n  \nPLACES LIMITÉES.
URL:https://chambrecommerce.ca/activite/positionnement-strategique-sur-linkedin-formation-groupe-2/
LOCATION:Vidéoconférence\, Canada
CATEGORIES:Activités,Webinaires et formations
ATTACH;FMTTYPE=image/jpeg:https://chambrecommerce.ca/wp-content/uploads/2020/07/Formation-LinkedIn.jpg
END:VEVENT
BEGIN:VEVENT
DTSTART;TZID=America/New_York:20200821T080000
DTEND;TZID=America/New_York:20200821T113000
DTSTAMP:20260421T035810
CREATED:20200715T130855Z
LAST-MODIFIED:20200814T132753Z
UID:10000280-1597996800-1598009400@chambrecommerce.ca
SUMMARY:Positionnement stratégique sur LinkedIn – GROUPE 3 – FORMATION VIDÉOCONFÉRENCE
DESCRIPTION:Formation LinkedIn Influence : Comment attirer\, engager et convertir des clients sur LinkedIn avec crédibilité.\nLa formation LinkedIn Influence s’adresse aux commerciaux\, aux professionnels\, aux entrepreneurs et aux dirigeants d’entreprises. \nElle vous apprend les six piliers essentiels pour développer votre activité sur LinkedIn avec succès. \n \nSuite à cette formation vous serez en mesure de : \n\nDéfinir les fondamentaux relatifs à :\n\nvotre marque professionnelle\,\nà votre proposition de valeur et\nà votre marché cible.\n\n\nOptimiser votre profil LinkedIn pour :\n\nétablir votre légitimité auprès de vos visiteurs\ninterpeller vos visiteurs très rapidement avec un message persuasif\ngénérer du trafic grâce au SEO\n\n\nBâtir un réseau engagé qui vous permettra de propulser votre visibilité\nMettre en place une stratégie de création de contenu engageant et une ligne éditoriale pour:\n\nétablir votre notoriété\nvous positionner comme une référence de votre secteur\nbâtir une communauté de supporters engagés\nattirer des prospects intéressés\n\n\nFaire de la prospection relationnelle consistant à :\n\ncibler et connecter avec les bons prospects\nengager la conversation\nbâtir la relation\nfaire passer la relation hors-ligne\n\n\nDiriger l’appel pour optimiser vos chances de conclure un accord commercial.\n\n  \nDÉTAIL DU PROGRAMME \nDÉFINITION\n\n\nAlignement des fondamentaux essentiels à l’optimisation de votre profil LinkedIn\n\n\nMarque professionnelle\nClient idéal\nBesoin prioritaire\nProposition de valeur\n\n\nOptimisation de votre profil\n\n\nHaut de page\nParcours\nRéalisations\nCompétences et recommandation\nSEO\nPage d’entreprise\nRéglages – les essentiels\n\n  \nPOSITIONNEMENT\n\nDéveloppement d’un réseau engagé\n\n\nDéfinition du réseau LinkedIn\nAlgorithme : revue des éléments qui affecte la portée d’une publication\nStratégie de création d’un réseau engagé\nIntroduction aux outils d’automatisation\nIntroduction aux outils statistiques\nGroupe d’engagement\nSocial Selling Index – comment l’améliorer\n\n\nCréation de contenu engageant\n\n\nCréation\n\nMéthode SUCCESs\nRevue et création de contenu à fort potentiel d’engagement\nCommuniquer avec une histoire\nLes formats de contenus LinkedIn\nÉdition de contenu\nBonnes pratiques\nErreurs fréquentes\n\n\nLigne éditoriale\n\nObjectifs SMART\nIndicateurs de performance\nPiliers éditoriaux\nPlanification\nCalendrier\n\n\n\n  \nVENTE SOCIALE\n\nProspection relationnelle\n\n\nObjectifs SMART\nComment trouver les bons prospects\nIntroduction à LinkedIn Sales Navigator\nComment faire la première approche\nComment engager la conversation\nComment bâtir la relation de confiance\nComment amener la conversation « hors ligne »\n\n\nConversion\n\n\nComment diriger le premier appel et optimiser ses chances de générer des ventes\n\nÉtablir ses objectifs (en termes d’avancées)\nComprendre les types de besoins (implicite et explicite)\nQuestions à poser et l’ordre pour les poser\nInvestigation préliminaire: comment bien se préparer avant la rencontre.\nRevues des 4 étapes d’un l’appel de vente\nComment prévenir les objections\n\n\n\n  \n\nFORMATEUR : DAVID GAUDREAULT\, Influence Branding \nDavid Gaudreault est ingénieur et possède plus de 10 ans d’expérience en vente et marketing\, dont 6 ans comme dirigeant et fondateur d’une entreprise de vente au détail et de distribution en ligne et comme marketeur numérique.\nIl se passionne et se spécialise depuis 2018 en positionnement stratégique pour les dirigeants et entrepreneurs. \nIl met ainsi à leur disposition son bagage d’expérience pour les former et les coacher dans le but de les amener à gagner en visibilité et en notoriété sur le web\, à être reconnus comme une référence de leur secteur d’activités et à générer des opportunités de croissance pour leur entreprise. \nDavid prêche par l’exemple\, avec une reconnaissance grandissante sur LinkedIn\, avec un réseau de plus de 9 500 abonnés\, de l’engagement significatif sur chacune de ses publications et une grande proportion de ses activités provenant directement de ses efforts de positionnement stratégique. \n  \n\nDÉROULEMENT\, HORAIRE ET COÛT\nValeur de 600 $! Le programme de formation Positionnement stratégique sur LinkedIn est offert gratuitement grâce au Programme actions concertées pour le maintien en emploi (PACME-COVID-19). De plus\, selon votre type d’entreprise\, vous pourriez bénéficier d’un remboursement salarial\, certaines conditions s’appliquent. \nGroupe 3 :\n– Vendredi 21 août 2020 : Optimisation de profil LinkedIn\n– Vendredi 28 août 2020: Création de contenu engageant LinkedIn\n– Vendredi 4 septembre 2020 : Développement d’un réseau engagé LinkedIn\n– Vendredi 18 septembre 2020 : Prospection sur LinkedIn et appel de vente\n(Groupe 1 les lundis et groupe 2 les mercredis) \nHoraire des cours :\n– Partie 1 : 8 h à 9 h 30\n– Pause : 9 h 30 à 10 h\n– Partie 2 : 10 h à 11 h 30 \nAfin d’assurer des résultats optimaux\, les participants doivent suivre le programme au complet\, c’est-à-dire participer aux quatre cours. \n  \nPLACES LIMITÉES.
URL:https://chambrecommerce.ca/activite/positionnement-strategique-sur-linkedin-groupe-3/
LOCATION:Vidéoconférence\, Canada
CATEGORIES:Activités,Webinaires et formations
ATTACH;FMTTYPE=image/jpeg:https://chambrecommerce.ca/wp-content/uploads/2020/07/Formation-LinkedIn.jpg
END:VEVENT
END:VCALENDAR