BEGIN:VCALENDAR
VERSION:2.0
PRODID:-//CCSH - ECPv6.15.17.1//NONSGML v1.0//EN
CALSCALE:GREGORIAN
METHOD:PUBLISH
X-ORIGINAL-URL:https://chambrecommerce.ca
X-WR-CALDESC:Évènements pour CCSH
REFRESH-INTERVAL;VALUE=DURATION:PT1H
X-Robots-Tag:noindex
X-PUBLISHED-TTL:PT1H
BEGIN:VTIMEZONE
TZID:America/New_York
BEGIN:DAYLIGHT
TZOFFSETFROM:-0500
TZOFFSETTO:-0400
TZNAME:EDT
DTSTART:20190310T070000
END:DAYLIGHT
BEGIN:STANDARD
TZOFFSETFROM:-0400
TZOFFSETTO:-0500
TZNAME:EST
DTSTART:20191103T060000
END:STANDARD
BEGIN:DAYLIGHT
TZOFFSETFROM:-0500
TZOFFSETTO:-0400
TZNAME:EDT
DTSTART:20200308T070000
END:DAYLIGHT
BEGIN:STANDARD
TZOFFSETFROM:-0400
TZOFFSETTO:-0500
TZNAME:EST
DTSTART:20201101T060000
END:STANDARD
BEGIN:DAYLIGHT
TZOFFSETFROM:-0500
TZOFFSETTO:-0400
TZNAME:EDT
DTSTART:20210314T070000
END:DAYLIGHT
BEGIN:STANDARD
TZOFFSETFROM:-0400
TZOFFSETTO:-0500
TZNAME:EST
DTSTART:20211107T060000
END:STANDARD
END:VTIMEZONE
BEGIN:VEVENT
DTSTART;TZID=America/New_York:20201028T080000
DTEND;TZID=America/New_York:20201028T093000
DTSTAMP:20260421T005521
CREATED:20200928T194652Z
LAST-MODIFIED:20201021T185933Z
UID:10000083-1603872000-1603877400@chambrecommerce.ca
SUMMARY:En Mouvement pour la relance socioéconomique en Montérégie avec monsieur Guy Cormier\, président et chef de la direction\, Mouvement Desjardins - WEBINAIRE
DESCRIPTION:Nous sommes fiers de nous associer à la FCCQ\, au Mouvement Desjardins et à l’ensemble des chambres de commerce de notre région pour vous inviter à participer au webinaire En Mouvement pour la relance socioéconomique en Montérégie\, le 28 octobre prochain de 8 h à 9 h 15.\n. \nJe m’inscris\n. \nCette rencontre virtuelle\, qui se déroulera dans le cadre d’une grande tournée des régions en collaboration avec le réseau des chambres\, réunira Charles Milliard\, pdg de la FCCQ\, et Guy Cormier\, président et chef de la direction du Mouvement Desjardins pour un échange d’une durée de 1 h 15 auquel toute la communauté d’affaires de la Montérégie sera conviée. \nM. Cormier offrira aux participants un portrait économique et sectoriel de notre région et fournira de l’information susceptible d’aider les entrepreneurs dans une ère post-COVID. Une période de questions avec le président et chef de la direction du Mouvement Desjardins suivra. \n  \nL’Observatoire FCCQ\nLa tournée En Mouvement pour la relance socioéconomique sera l’occasion pour les chambres de commerce de lancer notre tout nouvel outil d’analyse économique régionale\, L’Observatoire FCCQ. Pour que ce lancement soit un succès et que les premières données sur notre région puissent être dévoilées en exclusivité le 28 octobre\, nous vous invitons dès maintenant à vous inscrire à L’Observatoire en répondant à quelques questions sur votre entreprise et sur la relance économique de notre région. Ce questionnaire ne prendra pas plus de 5 minutes de votre temps. Inscrivez-vous ici: https://bit.ly/3me9hUE. \nLa communauté de L’Observatoire FCCQ est la combinaison d’une technologie de pointe et de la force de notre réseau d’affaires pour obtenir rapidement des données économiques fiables\, et ce\, par région et par secteur d’activité. Cet outil puissant et unique dans le monde associatif du Québec nous permettra de mieux influencer les politiques publiques en tenant compte de votre réalité particulière. \nPour plus d’information sur L’Observatoire FCCQ\, visionnez cette courte vidéo : https://youtu.be/uQmYF4KsjYs \nNous vous remercions à l’avance de votre participation. Pour toute question\, n’hésitez surtout pas à nous contacter à la chambre. Il nous fera plaisir de vous répondre afin de faire de ce grand événement avec le président et chef de la direction du Mouvement Desjardins un franc succès pour véritablement marquer la relance économique de notre région!  \n  \n \n  \n 
URL:https://chambrecommerce.ca/activite/en-mouvement-pour-la-relance-socioeconomique-en-monteregie-avec-monsieur-guy-cormier-president-et-chef-de-la-direction-mouvement-desjardins-webinaire/
LOCATION:Vidéoconférence\, Canada
CATEGORIES:Accueil,Activités,Webinaires et formations
ATTACH;FMTTYPE=image/jpeg:https://chambrecommerce.ca/wp-content/uploads/2020/09/VisuelTourneeDesjardins-InfolettreChambre-MONTEREGIE-002.jpg
END:VEVENT
END:VCALENDAR