BEGIN:VCALENDAR
VERSION:2.0
PRODID:-//CCSH - ECPv6.15.17.1//NONSGML v1.0//EN
CALSCALE:GREGORIAN
METHOD:PUBLISH
X-WR-CALNAME:CCSH
X-ORIGINAL-URL:https://chambrecommerce.ca
X-WR-CALDESC:Évènements pour CCSH
REFRESH-INTERVAL;VALUE=DURATION:PT1H
X-Robots-Tag:noindex
X-PUBLISHED-TTL:PT1H
BEGIN:VTIMEZONE
TZID:America/New_York
BEGIN:DAYLIGHT
TZOFFSETFROM:-0500
TZOFFSETTO:-0400
TZNAME:EDT
DTSTART:20200308T070000
END:DAYLIGHT
BEGIN:STANDARD
TZOFFSETFROM:-0400
TZOFFSETTO:-0500
TZNAME:EST
DTSTART:20201101T060000
END:STANDARD
BEGIN:DAYLIGHT
TZOFFSETFROM:-0500
TZOFFSETTO:-0400
TZNAME:EDT
DTSTART:20210314T070000
END:DAYLIGHT
BEGIN:STANDARD
TZOFFSETFROM:-0400
TZOFFSETTO:-0500
TZNAME:EST
DTSTART:20211107T060000
END:STANDARD
BEGIN:DAYLIGHT
TZOFFSETFROM:-0500
TZOFFSETTO:-0400
TZNAME:EDT
DTSTART:20220313T070000
END:DAYLIGHT
BEGIN:STANDARD
TZOFFSETFROM:-0400
TZOFFSETTO:-0500
TZNAME:EST
DTSTART:20221106T060000
END:STANDARD
END:VTIMEZONE
BEGIN:VEVENT
DTSTART;TZID=America/New_York:20210202T120000
DTEND;TZID=America/New_York:20210202T133000
DTSTAMP:20260419T131925
CREATED:20201127T171935Z
LAST-MODIFIED:20210119T201636Z
UID:10000292-1612267200-1612272600@chambrecommerce.ca
SUMMARY:Geneviève Everell : Mon parcours - CONFÉRENCE
DESCRIPTION:Une enfance tourmentée\, parsemée de pleurs\, de cris et de violence. Geneviève a été élevée dans un milieu instable où se côtoyaient pauvreté\, alcool et drogue. \nAujourd’hui\, voici qu’elle est devenue une jeune femme rayonnante et fonceuse\, qui travaille sans relâche pour réaliser ses rêves. Dans une conférence s’adressant à tous\, elle nous parle du chemin qu’elle a décidé de prendre: celui où on est maître de son destin. Sachant s’adapter à son public\, Geneviève raconte son parcours personnel et entrepreneurial avec passion et enthousiasme. \n  \n  \nGeneviève Everell\, Sushis à la maison \nInitiée à l’art des sushis par une chef à l’âge de 19 ans dans le cadre d’un petit boulot étudiant\, Geneviève Everell a travaillé dans quelques restos avant de lancer sa propre entreprise en 2008: Sushi à la maison. Ce qui était au départ une façon de faire plaisir à des amis en allant cuisiner chez eux\, est devenue une véritable passion! \nAu fil du temps\, Geneviève s’est mise à revisiter les sushis en y ajoutant sa touche bien particulière\, très créative\, non traditionnelle et unique en son genre. Grâce au bouche à oreille\, et surtout aux médias sociaux (Facebook et instagram)\, son entreprise est rapidement devenue plus qu’un passe-temps. En janvier 2012\, devant la demande constante et voyant le fort potentiel de son concept\, Geneviève Everell décide de faire le grand saut : elle quitte son poste d’animatrice à la radio\, un emploi qu’elle adorait\, pour se consacrer à temps plein à son entreprise. Un peu plus d’un après son changement de carrière\, le succès est indéniable. \n  \nINFORMATION DE CONNEXION\n\n(Réservation obligatoire pour obtenir les informations de connexion)\nActivité en vidéoconférence\, sur la plateforme Zoom\nLes participants recevront les informations de connexion par courriel.\nPour tout problème\, communiquez avec rcroteau@chambrecommerce.ca  \n  \nACTIVITÉ GRATUITE\, RÉSERVÉE AUX MEMBRES DE LA CHAMBRE DE COMMERCE.\n  \nActivité propulsée par 
URL:https://chambrecommerce.ca/activite/genevieve-everell-mon-parcours-conference/
LOCATION:Saint-Hyacinthe\, Québec\, Canada
CATEGORIES:Accueil,Activités,Dîner-conférence,FAM
END:VEVENT
END:VCALENDAR